BEGIN:VCALENDAR
VERSION:2.0
PRODID:-//Vermont Public Health Institute - ECPv6.15.20//NONSGML v1.0//EN
CALSCALE:GREGORIAN
METHOD:PUBLISH
X-WR-CALNAME:Vermont Public Health Institute
X-ORIGINAL-URL:https://vtphi.org
X-WR-CALDESC:Events for Vermont Public Health Institute
REFRESH-INTERVAL;VALUE=DURATION:PT1H
X-Robots-Tag:noindex
X-PUBLISHED-TTL:PT1H
BEGIN:VTIMEZONE
TZID:America/New_York
BEGIN:DAYLIGHT
TZOFFSETFROM:-0500
TZOFFSETTO:-0400
TZNAME:EDT
DTSTART:20220313T070000
END:DAYLIGHT
BEGIN:STANDARD
TZOFFSETFROM:-0400
TZOFFSETTO:-0500
TZNAME:EST
DTSTART:20221106T060000
END:STANDARD
BEGIN:DAYLIGHT
TZOFFSETFROM:-0500
TZOFFSETTO:-0400
TZNAME:EDT
DTSTART:20230312T070000
END:DAYLIGHT
BEGIN:STANDARD
TZOFFSETFROM:-0400
TZOFFSETTO:-0500
TZNAME:EST
DTSTART:20231105T060000
END:STANDARD
BEGIN:DAYLIGHT
TZOFFSETFROM:-0500
TZOFFSETTO:-0400
TZNAME:EDT
DTSTART:20240310T070000
END:DAYLIGHT
BEGIN:STANDARD
TZOFFSETFROM:-0400
TZOFFSETTO:-0500
TZNAME:EST
DTSTART:20241103T060000
END:STANDARD
END:VTIMEZONE
BEGIN:VEVENT
DTSTART;TZID=America/New_York:20230713T100000
DTEND;TZID=America/New_York:20230713T120000
DTSTAMP:20260420T030754
CREATED:20230513T152104Z
LAST-MODIFIED:20230626T131520Z
UID:654-1689242400-1689249600@vtphi.org
SUMMARY:VT CHEP: Workshop - Writing Compelling Grant Proposals - One-on-One Support Session with John Killacky
DESCRIPTION:Registration: The link to register for these sessions will be shared once registration is finalized (after June 16th). \nWorkshop Series Description: \nIn addition to the 3-part workshop series for the month of July\, details below\, John is also offering one-on-one support sessions from 10am – 12pm on Thursdays\, July 13\, 20 and 27. \nJoin John Killacky for a 3 part workshop series for the month of July on Tuesdays from 10am – 12pm (Tuesday\, July 11\, 18 and 25). Each session will be an interactive discussion where we will understand the larger landscape of grant writing: types of grants\, sources for grants\, types of giving and receiving organizations\, range of activities funded\, research resources for grant writers\, etc. and b) the structure of grant applications\, the tone and style of narrative sections\, the format for project budgets\, and project management tools. \nA detailed description of the workshop series can be found here.
URL:https://vtphi.org/calendar/vt-chep-workshop-writing-compelling-grant-proposals-one-on-one-support-session-with-john-killacky/
END:VEVENT
END:VCALENDAR