BEGIN:VCALENDAR
VERSION:2.0
PRODID:-//Vermont Public Health Institute - ECPv6.15.20//NONSGML v1.0//EN
CALSCALE:GREGORIAN
METHOD:PUBLISH
X-ORIGINAL-URL:https://vtphi.org
X-WR-CALDESC:Events for Vermont Public Health Institute
REFRESH-INTERVAL;VALUE=DURATION:PT1H
X-Robots-Tag:noindex
X-PUBLISHED-TTL:PT1H
BEGIN:VTIMEZONE
TZID:America/New_York
BEGIN:DAYLIGHT
TZOFFSETFROM:-0500
TZOFFSETTO:-0400
TZNAME:EDT
DTSTART:20220313T070000
END:DAYLIGHT
BEGIN:STANDARD
TZOFFSETFROM:-0400
TZOFFSETTO:-0500
TZNAME:EST
DTSTART:20221106T060000
END:STANDARD
BEGIN:DAYLIGHT
TZOFFSETFROM:-0500
TZOFFSETTO:-0400
TZNAME:EDT
DTSTART:20230312T070000
END:DAYLIGHT
BEGIN:STANDARD
TZOFFSETFROM:-0400
TZOFFSETTO:-0500
TZNAME:EST
DTSTART:20231105T060000
END:STANDARD
BEGIN:DAYLIGHT
TZOFFSETFROM:-0500
TZOFFSETTO:-0400
TZNAME:EDT
DTSTART:20240310T070000
END:DAYLIGHT
BEGIN:STANDARD
TZOFFSETFROM:-0400
TZOFFSETTO:-0500
TZNAME:EST
DTSTART:20241103T060000
END:STANDARD
END:VTIMEZONE
BEGIN:VEVENT
DTSTART;TZID=America/New_York:20231106T130000
DTEND;TZID=America/New_York:20231106T140000
DTSTAMP:20260422T074330
CREATED:20230920T192752Z
LAST-MODIFIED:20231024T025144Z
UID:889-1699275600-1699279200@vtphi.org
SUMMARY:VT CHEP: Drop-in Discussion - Ending Participation in the VT CHEP
DESCRIPTION:Audience: Integrators\, Backbone Staff\, and District Directors \nWe have set up two sessions\, Tuesday\, October 31st\, 10am – 11am and Monday\, November 6th\, 1pm – 2pm for you to “drop-in” and ask any questions that you have related to the VT CHEP grant ending on November 30th. This will be an informal space for you to get your questions answered about reporting\, invoicing\, assessments\, etc. \nSee the “Guidance on Project Funds & VT CHEP Reminders: Version 2” document for helpful information and reminders as we approach the end of the grant.\nPages 4-7 have newly added information since the October 6th version. \nJoin Zoom Meeting \nhttps://us02web.zoom.us/j/82005286640 \nMeeting ID: 820 0528 6640 \nThese sessions will not be recorded.
URL:https://vtphi.org/calendar/vt-chep-drop-in-discussion-ending-participation-in-the-vt-chep/
END:VEVENT
BEGIN:VEVENT
DTSTART;TZID=America/New_York:20230405T120000
DTEND;TZID=America/New_York:20230405T130000
DTSTAMP:20260422T074330
CREATED:20230401T125542Z
LAST-MODIFIED:20230801T194131Z
UID:533-1680696000-1680699600@vtphi.org
SUMMARY:BB/Integrator Discussion Group – For Backbone/Integrators Only
DESCRIPTION:Open time for Integrators and backbones to continue building relationships together and share ideas/thoughts. All discussion is confidential. \nJoin Zoom Workshop\nMeeting ID: 814 4000 1082\nPasscode: 028161\nDial by your location\n        +1 929 205 6099 US (New York)\nFind your local number: https://us02web.zoom.us/u/kcKHvQvzJU
URL:https://vtphi.org/calendar/bb-integrator-discussion-group-for-backbone-integrators-only-2/
END:VEVENT
BEGIN:VEVENT
DTSTART;TZID=America/New_York:20231115T120000
DTEND;TZID=America/New_York:20231115T130000
DTSTAMP:20260422T074330
CREATED:20230626T140331Z
LAST-MODIFIED:20230626T140332Z
UID:727-1700049600-1700053200@vtphi.org
SUMMARY:BB/Integrator Discussion Group – For Backbone/Integrators Only – District Directors Invited
DESCRIPTION:Open time for Integrators and backbones to continue building relationships together and share ideas/thoughts. All discussion is confidential. \nJoin Zoom Workshop\nMeeting ID: 814 4000 1082\nPasscode: 028161\nDial by your location\n        +1 929 205 6099 US (New York)\nFind your local number: https://us02web.zoom.us/u/kcKHvQvzJU
URL:https://vtphi.org/calendar/bb-integrator-discussion-group-for-backbone-integrators-only-2-9/
END:VEVENT
BEGIN:VEVENT
DTSTART;TZID=America/New_York:20231115T170000
DTEND;TZID=America/New_York:20231115T170000
DTSTAMP:20260422T074330
CREATED:20230829T161027Z
LAST-MODIFIED:20230831T180908Z
UID:859-1700067600-1700067600@vtphi.org
SUMMARY:Invoices and Narrative Reports Due
DESCRIPTION:Note: All expenditures and reports through October 31\, 2023 must be submitted by this date. \nInvoices and narrative reports are due the 1st and 3rd Wednesday of each month.
URL:https://vtphi.org/calendar/invoices-and-narrative-reports-due-2-2/
END:VEVENT
BEGIN:VEVENT
DTSTART;TZID=America/New_York:20230405T120000
DTEND;TZID=America/New_York:20230405T130000
DTSTAMP:20260422T074330
CREATED:20230401T125542Z
LAST-MODIFIED:20230801T194131Z
UID:533-1680696000-1680699600@vtphi.org
SUMMARY:BB/Integrator Discussion Group – For Backbone/Integrators Only
DESCRIPTION:Open time for Integrators and backbones to continue building relationships together and share ideas/thoughts. All discussion is confidential. \nJoin Zoom Workshop\nMeeting ID: 814 4000 1082\nPasscode: 028161\nDial by your location\n        +1 929 205 6099 US (New York)\nFind your local number: https://us02web.zoom.us/u/kcKHvQvzJU
URL:https://vtphi.org/calendar/bb-integrator-discussion-group-for-backbone-integrators-only-2/
END:VEVENT
BEGIN:VEVENT
DTSTART;TZID=America/New_York:20230906T170000
DTEND;TZID=America/New_York:20230906T170000
DTSTAMP:20260422T074330
CREATED:20230829T160019Z
LAST-MODIFIED:20230831T165823Z
UID:854-1694019600-1694019600@vtphi.org
SUMMARY:Invoices and Narrative Reports Due
DESCRIPTION:Invoices and narrative reports are due the 1st and 3rd Wednesday of each month. \n 
URL:https://vtphi.org/calendar/invoices-and-narrative-reports-due/
END:VEVENT
END:VCALENDAR