BEGIN:VCALENDAR
VERSION:2.0
PRODID:-//Vermont Public Health Institute - ECPv6.15.20//NONSGML v1.0//EN
CALSCALE:GREGORIAN
METHOD:PUBLISH
X-ORIGINAL-URL:https://vtphi.org
X-WR-CALDESC:Events for Vermont Public Health Institute
REFRESH-INTERVAL;VALUE=DURATION:PT1H
X-Robots-Tag:noindex
X-PUBLISHED-TTL:PT1H
BEGIN:VTIMEZONE
TZID:America/New_York
BEGIN:DAYLIGHT
TZOFFSETFROM:-0500
TZOFFSETTO:-0400
TZNAME:EDT
DTSTART:20220313T070000
END:DAYLIGHT
BEGIN:STANDARD
TZOFFSETFROM:-0400
TZOFFSETTO:-0500
TZNAME:EST
DTSTART:20221106T060000
END:STANDARD
BEGIN:DAYLIGHT
TZOFFSETFROM:-0500
TZOFFSETTO:-0400
TZNAME:EDT
DTSTART:20230312T070000
END:DAYLIGHT
BEGIN:STANDARD
TZOFFSETFROM:-0400
TZOFFSETTO:-0500
TZNAME:EST
DTSTART:20231105T060000
END:STANDARD
BEGIN:DAYLIGHT
TZOFFSETFROM:-0500
TZOFFSETTO:-0400
TZNAME:EDT
DTSTART:20240310T070000
END:DAYLIGHT
BEGIN:STANDARD
TZOFFSETFROM:-0400
TZOFFSETTO:-0500
TZNAME:EST
DTSTART:20241103T060000
END:STANDARD
END:VTIMEZONE
BEGIN:VEVENT
DTSTART;TZID=America/New_York:20230405T120000
DTEND;TZID=America/New_York:20230405T130000
DTSTAMP:20260419T164806
CREATED:20230401T125542Z
LAST-MODIFIED:20230801T194131Z
UID:533-1680696000-1680699600@vtphi.org
SUMMARY:BB/Integrator Discussion Group – For Backbone/Integrators Only
DESCRIPTION:Open time for Integrators and backbones to continue building relationships together and share ideas/thoughts. All discussion is confidential. \nJoin Zoom Workshop\nMeeting ID: 814 4000 1082\nPasscode: 028161\nDial by your location\n        +1 929 205 6099 US (New York)\nFind your local number: https://us02web.zoom.us/u/kcKHvQvzJU
URL:https://vtphi.org/calendar/bb-integrator-discussion-group-for-backbone-integrators-only-2/
END:VEVENT
BEGIN:VEVENT
DTSTART;TZID=America/New_York:20230405T120000
DTEND;TZID=America/New_York:20230405T130000
DTSTAMP:20260419T164806
CREATED:20230401T125542Z
LAST-MODIFIED:20230801T194131Z
UID:533-1680696000-1680699600@vtphi.org
SUMMARY:BB/Integrator Discussion Group – For Backbone/Integrators Only
DESCRIPTION:Open time for Integrators and backbones to continue building relationships together and share ideas/thoughts. All discussion is confidential. \nJoin Zoom Workshop\nMeeting ID: 814 4000 1082\nPasscode: 028161\nDial by your location\n        +1 929 205 6099 US (New York)\nFind your local number: https://us02web.zoom.us/u/kcKHvQvzJU
URL:https://vtphi.org/calendar/bb-integrator-discussion-group-for-backbone-integrators-only-2/
END:VEVENT
BEGIN:VEVENT
DTSTART;TZID=America/New_York:20230816T120000
DTEND;TZID=America/New_York:20230816T130000
DTSTAMP:20260419T164806
CREATED:20230710T190343Z
LAST-MODIFIED:20230710T190345Z
UID:729-1692187200-1692190800@vtphi.org
SUMMARY:BB/Integrator Discussion Group – For Backbone/Integrators Only
DESCRIPTION:Open time for Integrators and backbones to continue building relationships together and share ideas/thoughts. All discussion is confidential. \nJoin Zoom Workshop\nMeeting ID: 814 4000 1082\nPasscode: 028161\nDial by your location\n        +1 929 205 6099 US (New York)\nFind your local number: https://us02web.zoom.us/u/kcKHvQvzJU
URL:https://vtphi.org/calendar/bb-integrator-discussion-group-for-backbone-integrators-only-2-10/
END:VEVENT
BEGIN:VEVENT
DTSTART;TZID=America/New_York:20230823T120000
DTEND;TZID=America/New_York:20230823T130000
DTSTAMP:20260419T164806
CREATED:20230626T135937Z
LAST-MODIFIED:20230710T190423Z
UID:724-1692792000-1692795600@vtphi.org
SUMMARY:BB/Integrator Discussion Group – For Backbone/Integrators Only – District Directors Invited
DESCRIPTION:Open time for Integrators and backbones to continue building relationships together and share ideas/thoughts. All discussion is confidential. \nJoin Zoom Workshop\nMeeting ID: 814 4000 1082\nPasscode: 028161\nDial by your location\n        +1 929 205 6099 US (New York)\nFind your local number: https://us02web.zoom.us/u/kcKHvQvzJU
URL:https://vtphi.org/calendar/bb-integrator-discussion-group-for-backbone-integrators-only-2-6/
END:VEVENT
BEGIN:VEVENT
DTSTART;TZID=America/New_York:20230829T150000
DTEND;TZID=America/New_York:20230829T153000
DTSTAMP:20260419T164806
CREATED:20230823T182610Z
LAST-MODIFIED:20230823T182610Z
UID:838-1693321200-1693323000@vtphi.org
SUMMARY:VT CHEP: Health Equity Self-Assessment Open Discussion
DESCRIPTION:Audience: Backbones\, Integrators\, District Directors \nPurpose: To help reduce the deliverables for the Integrators and Backbone teams at the end of the VT CHEP grant\, we are asking districts to complete the final Health Equity Self-Assessment (see attached Word Doc) by Monday\, October 2\, 2023. This will not be required again as part of the final assessment materials due on December 6\, 2023. \nThe Health Equity Assessments are not tied to your funded community projects. It is designed to be a useful tool for your collaborative teams/coalitions/AHCs/steering committees to use to guide discussions on how you are working together on health equity. While this is only required a second time\, by October 2\, the VT CHEP’s hope is that this tool will be used as a check-point throughout your work.\n————————————\nJoin Zoom Meeting:\nhttps://us02web.zoom.us/j/82993220664?pwd=aWRaeC9jYkFIN0Z2Q1JXTnNNRnhBUT09 \nMeeting ID: 829 9322 0664 \nPasscode: 382616
URL:https://vtphi.org/calendar/vt-chep-health-equity-self-assessment-open-discussion/
END:VEVENT
BEGIN:VEVENT
DTSTART;TZID=America/New_York:20230405T120000
DTEND;TZID=America/New_York:20230405T130000
DTSTAMP:20260419T164806
CREATED:20230401T125542Z
LAST-MODIFIED:20230801T194131Z
UID:533-1680696000-1680699600@vtphi.org
SUMMARY:BB/Integrator Discussion Group – For Backbone/Integrators Only
DESCRIPTION:Open time for Integrators and backbones to continue building relationships together and share ideas/thoughts. All discussion is confidential. \nJoin Zoom Workshop\nMeeting ID: 814 4000 1082\nPasscode: 028161\nDial by your location\n        +1 929 205 6099 US (New York)\nFind your local number: https://us02web.zoom.us/u/kcKHvQvzJU
URL:https://vtphi.org/calendar/bb-integrator-discussion-group-for-backbone-integrators-only-2/
END:VEVENT
END:VCALENDAR